BEGIN:VCALENDAR
VERSION:2.0
PRODID:-//eventon.com NONSGML v1.0//EN
CALSCALE:GREGORIAN
METHOD:PUBLISH
BEGIN:VEVENT
UID:69e7408f6b5e1
DTSTAMP:20260421T091703Z
DTSTART:20251103
DTEND:20251104
LOCATION:
SUMMARY:Fermeture exceptionnelle
DESCRIPTION:\nhttps://steinbourg.fr/events/fermeture-exceptionnelle-de-la-m
 airie-2/
URL:https://steinbourg.fr/events/fermeture-exceptionnelle-de-la-mairie-2/
END:VEVENT
END:VCALENDAR