BEGIN:VCALENDAR
VERSION:2.0
PRODID:-//eventon.com NONSGML v1.0//EN
CALSCALE:GREGORIAN
METHOD:PUBLISH
BEGIN:VEVENT
UID:69e73fd85ead9
DTSTAMP:20260421T091400Z
DTSTART:20230916T120000Z
DTEND:20230916T150000Z
LOCATION:
SUMMARY:Sortie escalade sur rocher dans la vallée des éclusiers (Club Vosgien de demain - 6 à 14 ans)
DESCRIPTION:Renseignements : Mme Faurie Valérie &#8211; Tél. 03.88.91.69.
 23 &#8211; valeriefaurie@yahoo.fr\nhttps://steinbourg.fr/events/sortie-esca
 lade-sur-rocher-dans-la-vallee-des-eclusiers-club-vosgien-de-demain-6-a-14-
 ans/
URL:https://steinbourg.fr/events/sortie-escalade-sur-rocher-dans-la-vallee-des-eclusiers-club-vosgien-de-demain-6-a-14-ans/
END:VEVENT
END:VCALENDAR