BEGIN:VCALENDAR
VERSION:2.0
PRODID:-//eventon.com NONSGML v1.0//EN
CALSCALE:GREGORIAN
METHOD:PUBLISH
BEGIN:VEVENT
UID:69e5e265a6602
DTSTAMP:20260420T082301Z
DTSTART:20231014T123000Z
DTEND:20231014T143000Z
LOCATION:
SUMMARY:Balade au fil de la Zorn
DESCRIPTION:Dans le cadre de la journée «&nbsp;Tous résilients face aux 
 risques&nbsp;»\,  instaurée par le Gouvernement en 2022 et en cohérence 
 avec la journée internationale pour la réduction des risques de catastrop
 hes de l’ONU\,  le SDEA organise une balade au fil de l’eau pour décou
 vrir les actions pour mieux vivre avec[..]\nhttps://steinbourg.fr/events/ba
 lade-au-fil-de-la-zorn/
URL:https://steinbourg.fr/events/balade-au-fil-de-la-zorn/
END:VEVENT
END:VCALENDAR