BEGIN:VCALENDAR
VERSION:2.0
PRODID:-//eventon.com NONSGML v1.0//EN
CALSCALE:GREGORIAN
METHOD:PUBLISH
BEGIN:VEVENT
UID:69e739e401ee6
DTSTAMP:20260421T084836Z
DTSTART:20251107T193000Z
DTEND:20251107T220000Z
LOCATION:
SUMMARY:Théâtre alsacien
DESCRIPTION:Programme à venir !\nhttps://steinbourg.fr/events/theatre-alsa
 cien-2/
URL:https://steinbourg.fr/events/theatre-alsacien-2/
END:VEVENT
END:VCALENDAR