BEGIN:VCALENDAR
VERSION:2.0
PRODID:-//eventon.com NONSGML v1.0//EN
CALSCALE:GREGORIAN
METHOD:PUBLISH
BEGIN:VEVENT
UID:69e86d792956e
DTSTAMP:20260422T064057Z
DTSTART:20240419T160000Z
DTEND:20240419T180000Z
LOCATION:
SUMMARY:Food Truck 62
DESCRIPTION:https://www.facebook.com/reel/634702072114560/?s=single_unit&am
 p;cft[0]=AZVcru51cw_ydrIPkHb7BDGg36l1OYk9UycDavyhEWPH7ylpBdOzYMSf2G7AQi5D5r
 n3rsiBKuGJWpD5mOwICKWpEwYFyGrdJETC14DS7TaO5KYp9FY5HxKajnxMTdkLumb3jJZtJcF3r
 SbIv9BAZ72616rqa2fJrrLCL-UWC-Wx7-CFjuYp14zYlR7Cb7D2mEjhxoeL8Y1GnQCc16clIy2X
 &amp;tn=H-R\nhttps://steinbourg.fr/events/food-truck-62/
URL:https://steinbourg.fr/events/food-truck-62/
END:VEVENT
END:VCALENDAR