BEGIN:VCALENDAR
VERSION:2.0
PRODID:-//eventon.com NONSGML v1.0//EN
CALSCALE:GREGORIAN
METHOD:PUBLISH
BEGIN:VEVENT
UID:69e7402908363
DTSTAMP:20260421T091521Z
DTSTART:20241005T080000Z
DTEND:20241005T090000Z
LOCATION:
SUMMARY:Atelier Smictom : Le compostage en pratique
DESCRIPTION:Le compostage\,  c&rsquo;est vraiment pas compliqué&#8230; si 
 c&rsquo;est bien expliqué ! En une heure seulement\,  Antoine vous livre t
 ous ses trucs et astuces pour composter facilement.\nhttps://steinbourg.fr/
 events/atelier-smictom-le-compostage-en-pratique/
URL:https://steinbourg.fr/events/atelier-smictom-le-compostage-en-pratique/
END:VEVENT
END:VCALENDAR