BEGIN:VCALENDAR
VERSION:2.0
PRODID:-//eventon.com NONSGML v1.0//EN
CALSCALE:GREGORIAN
METHOD:PUBLISH
BEGIN:VEVENT
UID:69e73899ed806
DTSTAMP:20260421T084305Z
DTSTART:20250517T123000Z
DTEND:20250517T140000Z
LOCATION:
SUMMARY:Marche Culture & Santé
DESCRIPTION:Inauguration du parcours Activ&rsquo;Santé Monswiller-Steinbou
 rg (7 km) / Départ à la mairie de Steinbourg le samedi 17 mai 2025 à 14h
 30 sur inscription.\nhttps://steinbourg.fr/events/marche-culture-sante/
URL:https://steinbourg.fr/events/marche-culture-sante/
END:VEVENT
END:VCALENDAR