BEGIN:VCALENDAR
VERSION:2.0
PRODID:-//eventon.com NONSGML v1.0//EN
CALSCALE:GREGORIAN
METHOD:PUBLISH
BEGIN:VEVENT
UID:69e73e5ea757f
DTSTAMP:20260421T090742Z
DTSTART:20260201T070000Z
DTEND:20260201T170000Z
LOCATION:
SUMMARY:Battue de chasse en forêt de montagne
DESCRIPTION:\nhttps://steinbourg.fr/events/battue-de-chasse-en-foret-de-mon
 tagne/
URL:https://steinbourg.fr/events/battue-de-chasse-en-foret-de-montagne/
END:VEVENT
END:VCALENDAR