BEGIN:VCALENDAR
VERSION:2.0
PRODID:-//eventon.com NONSGML v1.0//EN
CALSCALE:GREGORIAN
METHOD:PUBLISH
BEGIN:VEVENT
UID:69eb821998755
DTSTAMP:20260424T144545Z
DTSTART:20260426T220000Z
DTEND:20260427T123000Z
LOCATION:
SUMMARY:Collecte des déchets ménagers
DESCRIPTION:\nhttps://steinbourg.fr/events/collecte-de-tri-reportee/
URL:https://steinbourg.fr/events/collecte-de-tri-reportee/
END:VEVENT
END:VCALENDAR