BEGIN:VCALENDAR
VERSION:2.0
PRODID:-//eventon.com NONSGML v1.0//EN
CALSCALE:GREGORIAN
METHOD:PUBLISH
BEGIN:VEVENT
UID:69e758546ac66
DTSTAMP:20260421T105828Z
DTSTART:20260212T170000Z
DTEND:20260212T190000Z
LOCATION:
SUMMARY:Aides à la rénovation de l'habitat 2026 : conseils en ligne
DESCRIPTION:Les dispositifs d’aides ont évolué en ce début d’année 
 2026. Les guichets MaPriméRénov’ sont sur la voie de leur réouverture 
 ! Un bonne nouvelle qui suscite quelques questions ! On décrypte tout ça 
 le 12/02/2026 à 18h\,  en live. Pour s&rsquo;inscrire : MaPrimeRénov&rsqu
 o; sur la voie de la réouverture &#8211;[..]\nhttps://steinbourg.fr/events
 /aides-a-la-renovation-de-lhabitat-2026-conseils-en-ligne/
URL:https://steinbourg.fr/events/aides-a-la-renovation-de-lhabitat-2026-conseils-en-ligne/
END:VEVENT
END:VCALENDAR