BEGIN:VCALENDAR
VERSION:2.0
PRODID:-//eventon.com NONSGML v1.0//EN
CALSCALE:GREGORIAN
METHOD:PUBLISH
BEGIN:VEVENT
UID:69e740a5a57a2
DTSTAMP:20260421T091725Z
DTSTART:20260313T180000Z
DTEND:20260313T225900Z
LOCATION:
SUMMARY:Soirée St Patrick au foyer-vestiaires du FCS
DESCRIPTION:\nhttps://steinbourg.fr/events/soiree-st-patrick-au-foyer-vesti
 aires-du-fcs/
URL:https://steinbourg.fr/events/soiree-st-patrick-au-foyer-vestiaires-du-fcs/
END:VEVENT
END:VCALENDAR