BEGIN:VCALENDAR
VERSION:2.0
PRODID:-//eventon.com NONSGML v1.0//EN
CALSCALE:GREGORIAN
METHOD:PUBLISH
BEGIN:VEVENT
UID:69e73d8aae085
DTSTAMP:20260421T090410Z
DTSTART:20260302T120000Z
DTEND:20260305T170000Z
LOCATION:
SUMMARY:Opération de broyage à Marmoutier
DESCRIPTION:\nhttps://steinbourg.fr/events/dechetterie-de-marmoutier-operat
 ion-de-broyage-du-2-au-5-mars-2026/
URL:https://steinbourg.fr/events/dechetterie-de-marmoutier-operation-de-broyage-du-2-au-5-mars-2026/
END:VEVENT
END:VCALENDAR