BEGIN:VCALENDAR
VERSION:2.0
PRODID:-//eventon.com NONSGML v1.0//EN
CALSCALE:GREGORIAN
METHOD:PUBLISH
BEGIN:VEVENT
UID:69e73c32211d8
DTSTAMP:20260421T085826Z
DTSTART:20260228T083000Z
DTEND:20260228T110000Z
LOCATION:
SUMMARY:SMICTOM / Atelier sur le recyclage des végétaux à Marmoutier
DESCRIPTION:Le SMICTOM de la région de Saverne\,  propose un atelier aux h
 abitants du territoire\,  sur le site du Foyer d’Accueil Spécialisé Air
  et Vie de Marmoutier. L’atelier se déroulera en 3 parties&nbsp;: temps 
 convivial organisé par Air et Vie. présentation\,  échanges et sensibili
 sation à la réduction des déchets verts animé[..]\nhttps://steinbourg.f
 r/events/smictom-atelier-sur-le-recyclage-des-vegetaux-a-marmoutier/
URL:https://steinbourg.fr/events/smictom-atelier-sur-le-recyclage-des-vegetaux-a-marmoutier/
END:VEVENT
END:VCALENDAR