BEGIN:VCALENDAR
VERSION:2.0
PRODID:-//eventon.com NONSGML v1.0//EN
CALSCALE:GREGORIAN
METHOD:PUBLISH
BEGIN:VEVENT
UID:69e73fb898eae
DTSTAMP:20260421T091328Z
DTSTART:20260302T090000Z
DTEND:20260306T110000Z
LOCATION:
SUMMARY:Inscription à l'école
DESCRIPTION:Les enfants nés en 2023 entreront en septembre prochain en pet
 ite section de maternelle. Les inscriptions se feront à la mairie durant l
 a semaine du 2 au 6 mars 2026. Veuillez vous munir du livret de famille et 
 du carnet de santé de l&rsquo;enfant.\nhttps://steinbourg.fr/events/inscri
 ption-a-lecole/
URL:https://steinbourg.fr/events/inscription-a-lecole/
END:VEVENT
END:VCALENDAR