BEGIN:VCALENDAR
VERSION:2.0
PRODID:-//eventon.com NONSGML v1.0//EN
CALSCALE:GREGORIAN
METHOD:PUBLISH
BEGIN:VEVENT
UID:69ecd5b4633a0
DTSTAMP:20260425T145444Z
DTSTART:20260429T063000Z
DTEND:20260429T160000Z
LOCATION:
SUMMARY:Fermeture exceptionnelle de la mairie
DESCRIPTION:\nhttps://steinbourg.fr/events/fermeture-exceptionnelle-de-la-m
 airie-3/
URL:https://steinbourg.fr/events/fermeture-exceptionnelle-de-la-mairie-3/
END:VEVENT
END:VCALENDAR