BEGIN:VCALENDAR
VERSION:2.0
PRODID:-//eventon.com NONSGML v1.0//EN
CALSCALE:GREGORIAN
METHOD:PUBLISH
BEGIN:VEVENT
UID:69e737ff5a341
DTSTAMP:20260421T084031Z
DTSTART:20210213T080000Z
DTEND:20210212T230000Z
LOCATION:Foyer communal Place du Château\,  67790 Steinbourg
SUMMARY:Collecte en faveur des étudiants
DESCRIPTION:Rdv le samedi 13 février au Foyer communal\nhttps://steinbourg
 .fr/events/collecte-en-faveur-des-etudiants/
URL:https://steinbourg.fr/events/collecte-en-faveur-des-etudiants/
END:VEVENT
END:VCALENDAR