BEGIN:VCALENDAR
VERSION:2.0
PRODID:-//eventon.com NONSGML v1.0//EN
CALSCALE:GREGORIAN
METHOD:PUBLISH
BEGIN:VEVENT
UID:69e7392637996
DTSTAMP:20260421T084526Z
DTSTART:20210307
DTEND:20210308
LOCATION:
SUMMARY:Fête des grand-mères
DESCRIPTION:Fête des grand-mères\nhttps://steinbourg.fr/events/fete-des-g
 rand-meres/
URL:https://steinbourg.fr/events/fete-des-grand-meres/
END:VEVENT
END:VCALENDAR