BEGIN:VCALENDAR
VERSION:2.0
PRODID:-//eventon.com NONSGML v1.0//EN
CALSCALE:GREGORIAN
METHOD:PUBLISH
BEGIN:VEVENT
UID:69e740d9367c6
DTSTAMP:20260421T091817Z
DTSTART:20250911T153000Z
DTEND:20250911T163000Z
LOCATION:
SUMMARY:Atelier brico parents/enfants
DESCRIPTION:La CSF/APFS propose un atelier brico parent-enfant au foyer com
 munal (près de la mairie) de 17h à 18h Participation gratuite sur inscrip
 tion au 03.88.23.83.60\nhttps://steinbourg.fr/events/bricotheque-csf-apfs/
URL:https://steinbourg.fr/events/bricotheque-csf-apfs/
END:VEVENT
END:VCALENDAR