BEGIN:VCALENDAR
VERSION:2.0
PRODID:-//eventon.com NONSGML v1.0//EN
CALSCALE:GREGORIAN
METHOD:PUBLISH
BEGIN:VEVENT
UID:69e808843fa12
DTSTAMP:20260421T233012Z
DTSTART:20211031T060000Z
DTEND:20211031T170000Z
LOCATION:
SUMMARY:Battue de chasse                                        (zone entre canal et autoroute)
DESCRIPTION:Battue de chasse (zone entre canal et autoroute)\nhttps://stein
 bourg.fr/events/battue-de-chasse-zone-entre-canal-et-autoroute/
URL:https://steinbourg.fr/events/battue-de-chasse-zone-entre-canal-et-autoroute/
END:VEVENT
END:VCALENDAR