BEGIN:VCALENDAR
VERSION:2.0
PRODID:-//eventon.com NONSGML v1.0//EN
CALSCALE:GREGORIAN
METHOD:PUBLISH
BEGIN:VEVENT
UID:69e73e3e8b8f8
DTSTAMP:20260421T090710Z
DTSTART:20220312T080000Z
DTEND:20220312T100000Z
LOCATION:
SUMMARY:Collecte de dons pour l'Ukraine
DESCRIPTION:Collecte de dons pour l'Ukraine\nhttps://steinbourg.fr/events/c
 ollecte-de-dons-pour-lukraine-2/
URL:https://steinbourg.fr/events/collecte-de-dons-pour-lukraine-2/
END:VEVENT
END:VCALENDAR