BEGIN:VCALENDAR
VERSION:2.0
PRODID:-//eventon.com NONSGML v1.0//EN
CALSCALE:GREGORIAN
METHOD:PUBLISH
BEGIN:VEVENT
UID:69e740077c474
DTSTAMP:20260421T091447Z
DTSTART:20220716T060000Z
DTEND:20220716T110000Z
LOCATION:
SUMMARY:Sommer Marik
DESCRIPTION:Place du Général De Gaulle de 8h à 13h Menu Burger « Le st
 einbourgeois » à consommer sur place ou à emporter : 12 €/personne) (
  burger +salade en accompagnant +boisson+ muffins ) Proposé par : Supermar
 ché Proxi (légumes frais) &#8211; Ferme 3G (steak charolais) &#8211; Boul
 angerie « Au pain du Schneller (pains[..]\nhttps://steinbourg.fr/events/s
 ommer-marik/
URL:https://steinbourg.fr/events/sommer-marik/
END:VEVENT
END:VCALENDAR