BEGIN:VCALENDAR
VERSION:2.0
PRODID:-//eventon.com NONSGML v1.0//EN
CALSCALE:GREGORIAN
METHOD:PUBLISH
BEGIN:VEVENT
UID:69e83920d605e
DTSTAMP:20260422T025736Z
DTSTART:20260307T123000Z
DTEND:20260307T225900Z
LOCATION:
SUMMARY:CARNAVAL
DESCRIPTION:13h30 : Atelier de maquillage au foyer communal 15h : DÃ©part d
 u dÃ©filÃ© place de la Mairie et brÃ»lage du bÃ»cher sur la place des fÃªte
 s 16h : GoÃ»ter Ã  la Maison des associations 18h : SoirÃ©e carnavalesque Ã
   la Maison des associations organisÃ©e par les Schneller et les Vikinger\n
 https://steinbourg.fr/events/carnaval/
URL:https://steinbourg.fr/events/carnaval/
END:VEVENT
END:VCALENDAR