BEGIN:VCALENDAR
VERSION:2.0
PRODID:-//eventon.com NONSGML v1.0//EN
CALSCALE:GREGORIAN
METHOD:PUBLISH
BEGIN:VEVENT
UID:69e755b9544f7
DTSTAMP:20260421T104721Z
DTSTART:20230610T140000Z
DTEND:20230610T200000Z
LOCATION:
SUMMARY:Summer Night
DESCRIPTION:Salon plein air VDI &amp; Créateurs &#8211; Animations &#8211;
  Ateliers &#8211; Restauration\nhttps://steinbourg.fr/events/summer-night/
URL:https://steinbourg.fr/events/summer-night/
END:VEVENT
END:VCALENDAR