BEGIN:VCALENDAR
VERSION:2.0
PRODID:-//eventon.com NONSGML v1.0//EN
CALSCALE:GREGORIAN
METHOD:PUBLISH
BEGIN:VEVENT
UID:69e73a5a6b4ca
DTSTAMP:20260421T085034Z
DTSTART:20250713T170000Z
DTEND:20250713T215900Z
LOCATION:
SUMMARY:Fête Nationale
DESCRIPTION:La commune et l&rsquo;amicale des sapeurs-pompiers organisent l
 a Fête Nationale dans le parc de la mairie le dimanche 13 juillet 2025. Au
  programme : A partir de 19h : Mini fanfare des balcons / DJ / Buvette / Ta
 rtes flambées et pizzas / Gaufres A 21h30 : Défilé dans les[..]\nhttps:/
 /steinbourg.fr/events/fete-nationale-dans-le-jardin-de-la-mairie/
URL:https://steinbourg.fr/events/fete-nationale-dans-le-jardin-de-la-mairie/
END:VEVENT
END:VCALENDAR